BEGIN:VCALENDAR
VERSION:2.0
PRODID:-//Alumni- und Förderverein der Hessischen Schülerakademien e.V. - ECPv6.15.20//NONSGML v1.0//EN
CALSCALE:GREGORIAN
METHOD:PUBLISH
X-ORIGINAL-URL:https://alumni-hsaka.net
X-WR-CALDESC:Events for Alumni- und Förderverein der Hessischen Schülerakademien e.V.
REFRESH-INTERVAL;VALUE=DURATION:PT1H
X-Robots-Tag:noindex
X-PUBLISHED-TTL:PT1H
BEGIN:VTIMEZONE
TZID:Europe/Berlin
BEGIN:DAYLIGHT
TZOFFSETFROM:+0100
TZOFFSETTO:+0200
TZNAME:CEST
DTSTART:20250330T010000
END:DAYLIGHT
BEGIN:STANDARD
TZOFFSETFROM:+0200
TZOFFSETTO:+0100
TZNAME:CET
DTSTART:20251026T010000
END:STANDARD
BEGIN:DAYLIGHT
TZOFFSETFROM:+0100
TZOFFSETTO:+0200
TZNAME:CEST
DTSTART:20260329T010000
END:DAYLIGHT
BEGIN:STANDARD
TZOFFSETFROM:+0200
TZOFFSETTO:+0100
TZNAME:CET
DTSTART:20261025T010000
END:STANDARD
BEGIN:DAYLIGHT
TZOFFSETFROM:+0100
TZOFFSETTO:+0200
TZNAME:CEST
DTSTART:20270328T010000
END:DAYLIGHT
BEGIN:STANDARD
TZOFFSETFROM:+0200
TZOFFSETTO:+0100
TZNAME:CET
DTSTART:20271031T010000
END:STANDARD
END:VTIMEZONE
BEGIN:VEVENT
DTSTART;TZID=Europe/Berlin:20260628T120000
DTEND;TZID=Europe/Berlin:20260707T110000
DTSTAMP:20260420T134257
CREATED:20260125T181020Z
LAST-MODIFIED:20260125T181020Z
UID:540-1782648000-1783422000@alumni-hsaka.net
SUMMARY:HSAKA-M 2026: 15. Hessissche Mittelstufenakademie
DESCRIPTION:Link zur Ankündigung auf hsaka.de: https://www.hsaka.de/aktuell/
URL:https://alumni-hsaka.net/?tribe_events=hsaka-m-2026-15-hessissche-mittelstufenakademie
END:VEVENT
BEGIN:VEVENT
DTSTART;TZID=Europe/Berlin:20260726T120000
DTEND;TZID=Europe/Berlin:20260807T170000
DTSTAMP:20260420T134257
CREATED:20260125T181146Z
LAST-MODIFIED:20260125T181146Z
UID:542-1785067200-1786122000@alumni-hsaka.net
SUMMARY:HSAKA-O: 21. Hessische Oberstufenakademie
DESCRIPTION:Link zur Ankündigung auf hsaka.de: https://www.hsaka.de/aktuell/
URL:https://alumni-hsaka.net/?tribe_events=hsaka-o-21-hessische-oberstufenakademie
END:VEVENT
BEGIN:VEVENT
DTSTART;TZID=Europe/Berlin:20261009T120000
DTEND;TZID=Europe/Berlin:20261011T120000
DTSTAMP:20260420T134257
CREATED:20260125T181416Z
LAST-MODIFIED:20260125T181454Z
UID:544-1791547200-1791720000@alumni-hsaka.net
SUMMARY:Mini-Akademie auf Burg Bacharach
DESCRIPTION:2026 wird es wieder eine Mini-Akademie auf Burg Bacharach geben. Das Konzept ist etwas anders: Die Mini-Akademie gibt allen Ehemaligen der Hessischen Schülerakademie die Möglichkeit ein Wochenende in dem Spirit der Schülerakademien zu gestalten. Bringt gerne eine Kursidee oder einen Input zu einem Thema mit oder probiert etwas aus\, was ihr schon immer mal machen wolltet. Bei Fragen\, richtet euch gerne an Eva (eva@alumni-hsaka.de).
URL:https://alumni-hsaka.net/?tribe_events=mini-akademie-auf-burg-bacharach
END:VEVENT
END:VCALENDAR